BEGIN:VCALENDAR
VERSION:2.0
PRODID:-//MS St. Stefan im Rosental - ECPv6.0.7.1//NONSGML v1.0//EN
CALSCALE:GREGORIAN
METHOD:PUBLISH
X-WR-CALNAME:MS St. Stefan im Rosental
X-ORIGINAL-URL:https://ms-ststefan.at
X-WR-CALDESC:Veranstaltungen für MS St. Stefan im Rosental
REFRESH-INTERVAL;VALUE=DURATION:PT1H
X-Robots-Tag:noindex
X-PUBLISHED-TTL:PT1H
BEGIN:VTIMEZONE
TZID:Europe/Helsinki
BEGIN:DAYLIGHT
TZOFFSETFROM:+0200
TZOFFSETTO:+0300
TZNAME:EEST
DTSTART:20260329T010000
END:DAYLIGHT
BEGIN:STANDARD
TZOFFSETFROM:+0300
TZOFFSETTO:+0200
TZNAME:EET
DTSTART:20261025T010000
END:STANDARD
END:VTIMEZONE
BEGIN:VEVENT
DTSTART;TZID=Europe/Helsinki:20260430T080000
DTEND;TZID=Europe/Helsinki:20260430T170000
DTSTAMP:20260424T132920
CREATED:20260312T104934Z
LAST-MODIFIED:20260312T104935Z
UID:8407-1777536000-1777568400@ms-ststefan.at
SUMMARY:MS-Besprechung
DESCRIPTION:
URL:https://ms-ststefan.at/?tribe_events=ms-besprechung-6
END:VEVENT
END:VCALENDAR